BEGIN:VCALENDAR
VERSION:2.0
PRODID:-//wp-events-plugin.com//7.2.3.1//EN
TZID:Europe/Berlin
X-WR-TIMEZONE:Europe/Berlin
BEGIN:VEVENT
UID:3787@rainbow-aachen.de
DTSTART;TZID=Europe/Berlin:20260515T210000
DTEND;TZID=Europe/Berlin:20260515T234500
DTSTAMP:20260421T135354Z
URL:https://www.rainbow-aachen.de/termine/soli-party-anlaesslich-des-idaho
 bita/
SUMMARY:Soli Party anlässlich des IDAHOBITA
DESCRIPTION:Komm zur Soli-Party für Rainbow e.V. ins Hotel Europa!
ATTACH;FMTTYPE=image/jpeg:https://www.rainbow-aachen.de/wp-content/uploads
 /2026/04/IDAHOBITA.jpeg
CATEGORIES:Rosa Monat
LOCATION:Dein Hotel Europa\, Südstraße 54\, Aachen\, Nordrhein-Westfalen\
 , 52064 \, Deutschland
X-APPLE-STRUCTURED-LOCATION;VALUE=URI;X-ADDRESS=Südstraße 54\, Aachen\, N
 ordrhein-Westfalen\, 52064 \, Deutschland;X-APPLE-RADIUS=100;X-TITLE=Dein 
 Hotel Europa:geo:0,0
END:VEVENT
BEGIN:VTIMEZONE
TZID:Europe/Berlin
X-LIC-LOCATION:Europe/Berlin
BEGIN:DAYLIGHT
DTSTART:20260329T030000
TZOFFSETFROM:+0100
TZOFFSETTO:+0200
TZNAME:CEST
END:DAYLIGHT
END:VTIMEZONE
END:VCALENDAR