BEGIN:VCALENDAR
VERSION:2.0
PRODID:-//wp-events-plugin.com//7.2.3.1//EN
TZID:Europe/Berlin
X-WR-TIMEZONE:Europe/Berlin
BEGIN:VEVENT
UID:3704@rainbow-aachen.de
DTSTART;TZID=Europe/Berlin:20250206T204500
DTEND;TZID=Europe/Berlin:20250206T204500
DTSTAMP:20250131T131144Z
URL:https://www.rainbow-aachen.de/termine/schwimmen-fuer-transmenschen-202
 5-02-06/
SUMMARY:Schwimmen für trans*Menschen
DESCRIPTION:
ATTACH;FMTTYPE=image/jpeg:https://www.rainbow-aachen.de/wp-content/uploads
 /2025/01/schwimmen.jpg
CATEGORIES:Rosa Monat
LOCATION:Elisabethhalle\, Elisabethstraße 10\, Aachen\, 52062\, Deutschlan
 d
X-APPLE-STRUCTURED-LOCATION;VALUE=URI;X-ADDRESS=Elisabethstraße 10\, Aache
 n\, 52062\, Deutschland;X-APPLE-RADIUS=100;X-TITLE=Elisabethhalle:geo:0,0
END:VEVENT
BEGIN:VTIMEZONE
TZID:Europe/Berlin
X-LIC-LOCATION:Europe/Berlin
BEGIN:STANDARD
DTSTART:20241027T020000
TZOFFSETFROM:+0200
TZOFFSETTO:+0100
TZNAME:CET
END:STANDARD
END:VTIMEZONE
END:VCALENDAR