BEGIN:VCALENDAR
VERSION:2.0
PRODID:-//wp-events-plugin.com//7.2.3.1//EN
TZID:Europe/Berlin
X-WR-TIMEZONE:Europe/Berlin
BEGIN:VEVENT
UID:3409@rainbow-aachen.de
DTSTART;TZID=Europe/Berlin:20230609T230000
DTEND;TZID=Europe/Berlin:20230609T230000
DTSTAMP:20230609T111557Z
URL:https://www.rainbow-aachen.de/termine/queertopia-die-neue-partyreihe-f
 uer-aachens-queere-community/
SUMMARY:QUEERTOPIA - die neue Partyreihe für Aachens queere Community!
DESCRIPTION:Der Nachfolger sowie zeitgemäße Nachfolger der legendären Ah
 oi Party steht endlich in trockenen Tüchern. Die LGBTQ Community ist gese
 llschaftlich fest verankert und Teil der toleranten Kultur in der wir uns 
 bewegen. Um die Vielfältigkeit\, Liebe &amp\; Freude am Feiern der queere
 n Szene zu repräsentieren kommt nun die neue Partyreihe QUEERTOPIA. Seid 
 dabei &amp\; lasst euch von einer bunten Welt voller Überraschungen inspi
 rieren.\n\nUnser geschultes Awareness Team wird euch am Abend der Veransta
 ltung tatkräftig zur Verfügung stehen. Ihr sucht euren Safe Place im Apo
 llo? Sprecht uns an und wir bringen euch an einen Ort indem ihr euch diskr
 et zurückziehen könnt (beispielsweise um ein sepzielles Outfit für die 
 Party anzuziehen)\n\n// doors open: ab 23 Uhr\n// Musik: Area 1: DJ CAMEO 
 (Club Sounds all Genres) + Area 2: Chill Out Lounge (Cocktail Area)\n// Sp
 ecials: genderfreie Toiletten + Fotobox für schnelle Schnappschüsse + Wa
 lking Acts\nwir stehen für Gleichheit\, Toleranz und Respekt untereinande
 r und möchten das unter dem Leitbild unserer Clubkultur gemeinsam mit euc
 h feiern.
ATTACH;FMTTYPE=image/jpeg:https://www.rainbow-aachen.de/wp-content/uploads
 /2023/05/Queertopia.jpg
CATEGORIES:Rosa Monat
LOCATION:http://Apollo%20Kino%20&%20Bar
END:VEVENT
BEGIN:VTIMEZONE
TZID:Europe/Berlin
X-LIC-LOCATION:Europe/Berlin
BEGIN:DAYLIGHT
DTSTART:20230326T030000
TZOFFSETFROM:+0100
TZOFFSETTO:+0200
TZNAME:CEST
END:DAYLIGHT
END:VTIMEZONE
END:VCALENDAR