BEGIN:VCALENDAR
VERSION:2.0
PRODID:-//wp-events-plugin.com//7.2.3.1//EN
TZID:Europe/Berlin
X-WR-TIMEZONE:Europe/Berlin
BEGIN:VEVENT
UID:3670@rainbow-aachen.de
DTSTART;TZID=Europe/Berlin:20241122T160000
DTEND;TZID=Europe/Berlin:20241122T200000
DTSTAMP:20241122T101743Z
URL:https://www.rainbow-aachen.de/termine/queerer-kreativabend-am-22-novem
 ber-im-rainbow-zentrum-aachen/
SUMMARY:Queerer Kreativabend am 22. November im Rainbow Zentrum\, Aachen
DESCRIPTION:Wir sehen uns am 22. November wieder von 16 - 19 Uhr im Rainbow
 -Zentrum um gemeinsam kreativ zu sein. Kommt gerne jederzeit dazu und brin
 gt euer Material und eure Projekte mit\, egal ihr malen\, basteln\, strick
 en\, schreiben oder sonst etwas Kreatives machen wollt! Falls ihr noch kei
 ne Idee oder kein Material habt\, könnt ihr gern unseres mitbenutzen. Wir
  haben Acrylfarbe\, Pinsel und Papier da.\n\nWann? 22. November von 16 - 1
 9 Uhr\nWo? Jakobstraße 161\, Aachen\nWas? Gemeinsam basteln\, malen\, kre
 ativ sein\nWas mitbringen? Mal- und Bastelsachen\, eventuell Snacks\n\nEng
 lish:\nCome join us on the 22nd of November  from 4-7 pm for our queer cr
 afternoon! You can join whenever you want and do any craft you enjoy. In c
 ase you don’t have an idea yet or no material\, you’re welcome to shar
 e ours. We have acrylic paint\, paint brushes and paper.\n\nWhen? 22nd Nov
 ember\, 4-7 pm\nWhere? Jakobstraße 161\, Aachen\nWhat? Crafting\, paintin
 g\, knitting… being creative together\nWhat to bring? Your materials and
  maybe some snacks\n\n&nbsp\;\n\nFollow us on Instagram and Facebook!
ATTACH;FMTTYPE=image/jpeg:https://www.rainbow-aachen.de/wp-content/uploads
 /2024/11/IMG-20241105-WA0058.jpg
CATEGORIES:Rosa Monat,Verein
LOCATION:Rainbow-Zentrum und Queerreferat\, Jakobstr. 161\, Aachen \, 52064
 \, Deutschland
X-APPLE-STRUCTURED-LOCATION;VALUE=URI;X-ADDRESS=Jakobstr. 161\, Aachen \, 5
 2064\, Deutschland;X-APPLE-RADIUS=100;X-TITLE=Rainbow-Zentrum und Queerref
 erat:geo:0,0
END:VEVENT
BEGIN:VTIMEZONE
TZID:Europe/Berlin
X-LIC-LOCATION:Europe/Berlin
BEGIN:STANDARD
DTSTART:20241027T020000
TZOFFSETFROM:+0200
TZOFFSETTO:+0100
TZNAME:CET
END:STANDARD
END:VTIMEZONE
END:VCALENDAR