BEGIN:VCALENDAR
VERSION:2.0
PRODID:-//wp-events-plugin.com//7.2.3.1//EN
TZID:Europe/Berlin
X-WR-TIMEZONE:Europe/Berlin
BEGIN:VEVENT
UID:3782@rainbow-aachen.de
DTSTART;TZID=Europe/Berlin:20260627T130000
DTEND;TZID=Europe/Berlin:20260627T190000
DTSTAMP:20260421T124308Z
URL:https://www.rainbow-aachen.de/termine/pride-maastricht-niederlande/
SUMMARY:Pride Maastricht (Niederlande)
DESCRIPTION:The Future is Queer\nUhrzeit: Demo von 11:00-13:00\, Festival v
 on 13:00-19:00\nFahrtzeit: 53 Minuten von Aachen Hbf bis Maastricht Hbf mi
 t der RB 18 oder 65 Minuten mit dem Bus 350 ab Elisenbrunnen\nBesonderheit
 : Die Veranstaltung soll so inklusiv wie möglich sein und die Gesundheit 
 der Teilnehmenden steht im Vordergrund.\nMehr Infos auf der Website pridem
 aastricht.nl
ATTACH;FMTTYPE=image/jpeg:https://www.rainbow-aachen.de/wp-content/uploads
 /2026/04/Pride_Maastricht.png
CATEGORIES:Rosa Monat
END:VEVENT
BEGIN:VTIMEZONE
TZID:Europe/Berlin
X-LIC-LOCATION:Europe/Berlin
BEGIN:DAYLIGHT
DTSTART:20260329T030000
TZOFFSETFROM:+0100
TZOFFSETTO:+0200
TZNAME:CEST
END:DAYLIGHT
END:VTIMEZONE
END:VCALENDAR