BEGIN:VCALENDAR
VERSION:2.0
PRODID:-//wp-events-plugin.com//7.2.3.1//EN
TZID:Europe/Berlin
X-WR-TIMEZONE:Europe/Berlin
BEGIN:VEVENT
UID:3784@rainbow-aachen.de
DTSTART;TZID=Europe/Berlin;VALUE=DATE:20260712
DTEND;TZID=Europe/Berlin;VALUE=DATE:20260713
DTSTAMP:20260421T125709Z
URL:https://www.rainbow-aachen.de/termine/limburg-pride-in-hasselt-belgien
 /
SUMMARY:Limburg Pride in Hasselt (Belgien)
DESCRIPTION:One Family\, Many Colours\nFahrtzeit: etwa 60 Minuten mit dem A
 uto\nBesonderheit: Die Veranstaltung fand 2025 das erste Mal mit 17 000 Te
 ilnehmenden statt und erwartet dieses Jahr mindestens 20 000 Personen. Au
 ßer der Pride Parade sind auch das Pride Village und Pride Festival angek
 ündigt.\nMehr Infos unter limburgpride.be
ATTACH;FMTTYPE=image/jpeg:https://www.rainbow-aachen.de/wp-content/uploads
 /2026/04/lp-logo-color-01-1024x526-1.jpg
CATEGORIES:Rosa Monat
END:VEVENT
BEGIN:VTIMEZONE
TZID:Europe/Berlin
X-LIC-LOCATION:Europe/Berlin
BEGIN:DAYLIGHT
DTSTART:20260329T030000
TZOFFSETFROM:+0100
TZOFFSETTO:+0200
TZNAME:CEST
END:DAYLIGHT
END:VTIMEZONE
END:VCALENDAR