BEGIN:VCALENDAR
VERSION:2.0
PRODID:-//wp-events-plugin.com//7.2.3.1//EN
TZID:Europe/Berlin
X-WR-TIMEZONE:Europe/Berlin
BEGIN:VEVENT
UID:3776@rainbow-aachen.de
DTSTART;TZID=Europe/Berlin:20260914T183000
DTEND;TZID=Europe/Berlin:20260914T234500
DTSTAMP:20260209T132600Z
URL:https://www.rainbow-aachen.de/termine/flinta-stammtisch-8/
SUMMARY:FLINTA* Stammtisch
DESCRIPTION:Liebe FLINTA*s\, wir freuen uns sehr\, euch am 14. September a
 b 18:30 im Rainbow Zentrum zu sehen.\nBei Fragen\, schreibt uns eine Mail
  an info@rainbow-aachen.de\n\nDie weiteren Termine in 2026 sind (the follo
 wing dates are): 12.10. / 16.11.\n\nDear FLINTA*s\, we are looking forward
  to seeing you on september\, 14th\, 6:30 pm at Rainbow. Please send an E-
 Mail in case you have any questions: info@rainbow-aachen.de
ATTACH;FMTTYPE=image/jpeg:https://www.rainbow-aachen.de/wp-content/uploads
 /2026/02/Fettdruck-Retro-Regenbogen-Stolz-Wochenende-Poster.jpg
CATEGORIES:Rosa Monat
LOCATION:Rainbow-Zentrum und Queerreferat\, Jakobstr. 161\, Aachen \, 52064
 \, Deutschland
X-APPLE-STRUCTURED-LOCATION;VALUE=URI;X-ADDRESS=Jakobstr. 161\, Aachen \, 5
 2064\, Deutschland;X-APPLE-RADIUS=100;X-TITLE=Rainbow-Zentrum und Queerref
 erat:geo:0,0
END:VEVENT
BEGIN:VTIMEZONE
TZID:Europe/Berlin
X-LIC-LOCATION:Europe/Berlin
BEGIN:DAYLIGHT
DTSTART:20260329T030000
TZOFFSETFROM:+0100
TZOFFSETTO:+0200
TZNAME:CEST
END:DAYLIGHT
END:VTIMEZONE
END:VCALENDAR