BEGIN:VCALENDAR
VERSION:2.0
PRODID:-//wp-events-plugin.com//7.2.3.1//EN
TZID:Europe/Berlin
X-WR-TIMEZONE:Europe/Berlin
BEGIN:VEVENT
UID:3685@rainbow-aachen.de
DTSTART;TZID=Europe/Berlin:20250206T203000
DTEND;TZID=Europe/Berlin:20250206T213000
DTSTAMP:20250124T101202Z
URL:https://www.rainbow-aachen.de/termine/fitness-training-2-2025-02-06/
SUMMARY:Fitness Training
DESCRIPTION:
ATTACH;FMTTYPE=image/jpeg:https://www.rainbow-aachen.de/wp-content/uploads
 /2025/01/fitness.jpg
CATEGORIES:Rosa Monat
LOCATION:Sporthalle\, Lothringer Str. 10\, Sporthalle Lothringer Straße 10
  \, Aachen\, Nordrhein-Westfalen\, 52062\, Deutschland
X-APPLE-STRUCTURED-LOCATION;VALUE=URI;X-ADDRESS=Sporthalle Lothringer Stra
 ße 10 \, Aachen\, Nordrhein-Westfalen\, 52062\, Deutschland;X-APPLE-RADI
 US=100;X-TITLE=Sporthalle\, Lothringer Str. 10:geo:0,0
END:VEVENT
BEGIN:VTIMEZONE
TZID:Europe/Berlin
X-LIC-LOCATION:Europe/Berlin
BEGIN:STANDARD
DTSTART:20241027T020000
TZOFFSETFROM:+0200
TZOFFSETTO:+0100
TZNAME:CET
END:STANDARD
END:VTIMEZONE
END:VCALENDAR