BEGIN:VCALENDAR
VERSION:2.0
PRODID:-//wp-events-plugin.com//7.2.3.1//EN
TZID:Europe/Berlin
X-WR-TIMEZONE:Europe/Berlin
BEGIN:VEVENT
UID:3785@rainbow-aachen.de
DTSTART;TZID=Europe/Berlin;VALUE=DATE:20260718
DTEND;TZID=Europe/Berlin;VALUE=DATE:20260719
DTSTAMP:20260421T130132Z
URL:https://www.rainbow-aachen.de/termine/csd-moenchengladbach/
SUMMARY:CSD Mönchengladbach
DESCRIPTION:Fahrtzeit: 50 Minuten mit der RE4/RB33 von Aachen Hbf bis Mönc
 hengladbach Hbf\nMehr Infos: https://www.csd-mg.de/\n\n&nbsp\;\n\n&nbsp\;
ATTACH;FMTTYPE=image/jpeg:https://www.rainbow-aachen.de/wp-content/uploads
 /2026/04/CSDMoenchengladbach.jpg
CATEGORIES:Rosa Monat
END:VEVENT
BEGIN:VTIMEZONE
TZID:Europe/Berlin
X-LIC-LOCATION:Europe/Berlin
BEGIN:DAYLIGHT
DTSTART:20260329T030000
TZOFFSETFROM:+0100
TZOFFSETTO:+0200
TZNAME:CEST
END:DAYLIGHT
END:VTIMEZONE
END:VCALENDAR