BEGIN:VCALENDAR
VERSION:2.0
PRODID:-//wp-events-plugin.com//7.2.3.1//EN
TZID:Europe/Berlin
X-WR-TIMEZONE:Europe/Berlin
BEGIN:VEVENT
UID:3781@rainbow-aachen.de
DTSTART;TZID=Europe/Berlin;VALUE=DATE:20260606
DTEND;TZID=Europe/Berlin;VALUE=DATE:20260607
DTSTAMP:20260421T123621Z
URL:https://www.rainbow-aachen.de/termine/csd-heinsberg/
SUMMARY:CSD Heinsberg
DESCRIPTION:5 Jahre CSD Kreis Heinsberg\nFahrtzeit: 50 Minuten mit der RB33
  von Aachen Hbf bis Heinsberg\n\nBesonderheit: Der CSD im Kreis Heinsberg 
 feiert Jubiläum\, hat das erste Mal auch eine Demo geplant und legt Wert 
 darauf\, eine Veranstaltung für die ganze Familie zu sein.\n\nDer Demozug
  beginnt auf der Westpromenade\, neben der GHS Heinsberg\n\nDie Uhrzeit st
 eht noch nicht fest - mehr Infos gibt's auf Instagram!
ATTACH;FMTTYPE=image/jpeg:https://www.rainbow-aachen.de/wp-content/uploads
 /2026/04/CSDHeinsberg.png
CATEGORIES:Rosa Monat
END:VEVENT
BEGIN:VTIMEZONE
TZID:Europe/Berlin
X-LIC-LOCATION:Europe/Berlin
BEGIN:DAYLIGHT
DTSTART:20260329T030000
TZOFFSETFROM:+0100
TZOFFSETTO:+0200
TZNAME:CEST
END:DAYLIGHT
END:VTIMEZONE
END:VCALENDAR