BEGIN:VCALENDAR
VERSION:2.0
PRODID:-//wp-events-plugin.com//7.2.3.1//EN
TZID:Europe/Berlin
X-WR-TIMEZONE:Europe/Berlin
BEGIN:VEVENT
UID:3783@rainbow-aachen.de
DTSTART;TZID=Europe/Berlin;VALUE=DATE:20260627
DTEND;TZID=Europe/Berlin;VALUE=DATE:20260628
DTSTAMP:20260421T125217Z
URL:https://www.rainbow-aachen.de/termine/csd-dueren/
SUMMARY:CSD Düren
DESCRIPTION:Datum: 27.06.2026\nFahrtzeit: 25 Minuten mit dem RE1\nMehr Info
 s auf Instagram!
ATTACH;FMTTYPE=image/jpeg:https://www.rainbow-aachen.de/wp-content/uploads
 /2026/04/CSDDueren.png
CATEGORIES:Rosa Monat
END:VEVENT
BEGIN:VTIMEZONE
TZID:Europe/Berlin
X-LIC-LOCATION:Europe/Berlin
BEGIN:DAYLIGHT
DTSTART:20260329T030000
TZOFFSETFROM:+0100
TZOFFSETTO:+0200
TZNAME:CEST
END:DAYLIGHT
END:VTIMEZONE
END:VCALENDAR