BEGIN:VCALENDAR
VERSION:2.0
PRODID:-//wp-events-plugin.com//7.2.3.1//EN
TZID:Europe/Berlin
X-WR-TIMEZONE:Europe/Berlin
BEGIN:VEVENT
UID:3576@rainbow-aachen.de
DTSTART;TZID=Europe/Berlin:20231215T150000
DTEND;TZID=Europe/Berlin:20231215T210000
DTSTAMP:20231211T142007Z
URL:https://www.rainbow-aachen.de/termine/christmas-pride-spread-love-not-
 hate/
SUMMARY:Christmas Pride - spread LOVE\, not hate!
DESCRIPTION:"Spread LOVE\, not hate! It's Christmas PRIDE!" Sei dabei und k
 omm rum am 15.12.2023 von 15 bis 21 Uhr zum Weihnachtsdorf am Büchel in A
 achen\n\nUnd bring gerne noch Menschen mit. Gerne teilen! Wir freuen uns a
 uf Euch!\n\n&nbsp\;\n\nZusätzliche Informationen:\n\nHier sind die Kanäl
 e des Weihnachtsdorfs am Büchel =&gt\; Instagram\, Facebook sowie die Web
 seite\n\nÖffnungszeiten des Weihnachtsdorfs:\n\n23.11. - 17.12.2023\nDien
 stags bis Freitags\n15.00 bis 21.00 Uhr\n\nSamstags &amp\; Sonntags\n12.00
  bis 21.00 Uhr\n\n&nbsp\;\n\nDas Weihnachtsdorf\, d.h. auch die Künstler:
 innen und Handwerker:innen werden durch Crowdfunding finanziert. Wer spend
 en mag\, HIER klicken!
ATTACH;FMTTYPE=image/jpeg:https://www.rainbow-aachen.de/wp-content/uploads
 /2023/12/Pride-Sharepic-Kopie.jpg
CATEGORIES:Rosa Monat,Verein
END:VEVENT
BEGIN:VTIMEZONE
TZID:Europe/Berlin
X-LIC-LOCATION:Europe/Berlin
BEGIN:STANDARD
DTSTART:20231029T020000
TZOFFSETFROM:+0200
TZOFFSETTO:+0100
TZNAME:CET
END:STANDARD
END:VTIMEZONE
END:VCALENDAR