BEGIN:VCALENDAR
VERSION:2.0
PRODID:-//wp-events-plugin.com//7.2.3.1//EN
TZID:Europe/Berlin
X-WR-TIMEZONE:Europe/Berlin
BEGIN:VEVENT
UID:3786@rainbow-aachen.de
DTSTART;TZID=Europe/Berlin:20260503T180000
DTEND;TZID=Europe/Berlin:20260503T220000
DTSTAMP:20260421T131108Z
URL:https://www.rainbow-aachen.de/termine/40-jahre-aidshilfe-gala/
SUMMARY:40 Jahre Aidshilfe Gala
DESCRIPTION:Die Aidshilfe feiert Jubiläum mit einer Gala im Theater Aachen
 .\n\nTickets gibt es hier.
ATTACH;FMTTYPE=image/jpeg:https://www.rainbow-aachen.de/wp-content/uploads
 /2026/04/Aidshilfe_Gala.png
CATEGORIES:Rosa Monat
LOCATION:Theater Aachen\, Theaterplatz\, Aachen\, NRW\, 52062\, Deutschland
X-APPLE-STRUCTURED-LOCATION;VALUE=URI;X-ADDRESS=Theaterplatz\, Aachen\, NRW
 \, 52062\, Deutschland;X-APPLE-RADIUS=100;X-TITLE=Theater Aachen:geo:0,0
END:VEVENT
BEGIN:VTIMEZONE
TZID:Europe/Berlin
X-LIC-LOCATION:Europe/Berlin
BEGIN:DAYLIGHT
DTSTART:20260329T030000
TZOFFSETFROM:+0100
TZOFFSETTO:+0200
TZNAME:CEST
END:DAYLIGHT
END:VTIMEZONE
END:VCALENDAR